BEGIN:VCALENDAR
VERSION:2.0
PRODID:-//Stockholm Vineyard - ECPv6.15.20//NONSGML v1.0//EN
CALSCALE:GREGORIAN
METHOD:PUBLISH
X-ORIGINAL-URL:https://stockholm.vineyard.se
X-WR-CALDESC:Händelser för Stockholm Vineyard
REFRESH-INTERVAL;VALUE=DURATION:PT1H
X-Robots-Tag:noindex
X-PUBLISHED-TTL:PT1H
BEGIN:VTIMEZONE
TZID:Europe/Stockholm
BEGIN:DAYLIGHT
TZOFFSETFROM:+0100
TZOFFSETTO:+0200
TZNAME:CEST
DTSTART:20240331T010000
END:DAYLIGHT
BEGIN:STANDARD
TZOFFSETFROM:+0200
TZOFFSETTO:+0100
TZNAME:CET
DTSTART:20241027T010000
END:STANDARD
BEGIN:DAYLIGHT
TZOFFSETFROM:+0100
TZOFFSETTO:+0200
TZNAME:CEST
DTSTART:20250330T010000
END:DAYLIGHT
BEGIN:STANDARD
TZOFFSETFROM:+0200
TZOFFSETTO:+0100
TZNAME:CET
DTSTART:20251026T010000
END:STANDARD
BEGIN:DAYLIGHT
TZOFFSETFROM:+0100
TZOFFSETTO:+0200
TZNAME:CEST
DTSTART:20260329T010000
END:DAYLIGHT
BEGIN:STANDARD
TZOFFSETFROM:+0200
TZOFFSETTO:+0100
TZNAME:CET
DTSTART:20261025T010000
END:STANDARD
END:VTIMEZONE
BEGIN:VEVENT
DTSTART;TZID=Europe/Stockholm:20251105T183000
DTEND;TZID=Europe/Stockholm:20251105T210000
DTSTAMP:20260425T182753
CREATED:20250624T130742Z
LAST-MODIFIED:20250624T130742Z
UID:37239-1762367400-1762376400@stockholm.vineyard.se
SUMMARY:Celebrate Recovery – Öppetmöte
DESCRIPTION:Celebrate Recovery – Öppetmöte \nCelebrate Recovery är ett program för dig som kämpar med sår\, ovanor eller beroenden. Det bygger på 12-stegsprogrammet i kombination med Bibelns budskap\, särskilt saligprisningarna. \nVi ses första onsdagen i varje månad kl. 19.00. Drop-in-fika från kl. 18.30. \nKvällens upplägg: \n18.30 – Fika för den som vill. \n19.00 – Storsamling med sång\, undervisning eller vittnesbörd\, avslutas med Sinnesrobönen. \n20.00 – Delningsgrupper (separat för män och kvinnor)\, en trygg plats för att dela och lyssna – utan råd eller lösningar. \n21.00 – Mingel med kaffe och juice. \nDu behöver inga förkunskaper. Kom som du är – du väljer själv om du vill dela eller lyssna bara.
URL:https://stockholm.vineyard.se/kalender/celebrate-recovery-oppetmote-3/
LOCATION:Stockholm Vineyard\, Aniaraplatsen 8\, Sollentuna\, 191 48\, Sweden
CATEGORIES:Celebrate Recovery
ATTACH;FMTTYPE=image/png:https://stockholm.vineyard.se/wp-content/uploads/2025/01/Celebrate_Recovery_header-e1574249867184-SkJpDa.tmp_.png
END:VEVENT
END:VCALENDAR