BEGIN:VCALENDAR
VERSION:2.0
PRODID:-//Stockholm Vineyard - ECPv6.15.20//NONSGML v1.0//EN
CALSCALE:GREGORIAN
METHOD:PUBLISH
X-ORIGINAL-URL:https://stockholm.vineyard.se
X-WR-CALDESC:Händelser för Stockholm Vineyard
REFRESH-INTERVAL;VALUE=DURATION:PT1H
X-Robots-Tag:noindex
X-PUBLISHED-TTL:PT1H
BEGIN:VTIMEZONE
TZID:Europe/Stockholm
BEGIN:DAYLIGHT
TZOFFSETFROM:+0100
TZOFFSETTO:+0200
TZNAME:CEST
DTSTART:20240331T010000
END:DAYLIGHT
BEGIN:STANDARD
TZOFFSETFROM:+0200
TZOFFSETTO:+0100
TZNAME:CET
DTSTART:20241027T010000
END:STANDARD
BEGIN:DAYLIGHT
TZOFFSETFROM:+0100
TZOFFSETTO:+0200
TZNAME:CEST
DTSTART:20250330T010000
END:DAYLIGHT
BEGIN:STANDARD
TZOFFSETFROM:+0200
TZOFFSETTO:+0100
TZNAME:CET
DTSTART:20251026T010000
END:STANDARD
BEGIN:DAYLIGHT
TZOFFSETFROM:+0100
TZOFFSETTO:+0200
TZNAME:CEST
DTSTART:20260329T010000
END:DAYLIGHT
BEGIN:STANDARD
TZOFFSETFROM:+0200
TZOFFSETTO:+0100
TZNAME:CET
DTSTART:20261025T010000
END:STANDARD
END:VTIMEZONE
BEGIN:VEVENT
DTSTART;TZID=Europe/Stockholm:20250823T100000
DTEND;TZID=Europe/Stockholm:20250823T130000
DTSTAMP:20260426T024221
CREATED:20250812T100758Z
LAST-MODIFIED:20250821T090119Z
UID:37323-1755943200-1755954000@stockholm.vineyard.se
SUMMARY:NY DATUM KOMMER! Mirakler\, frukost och samtal med Micael Grenholm
DESCRIPTION:*TYVÄRR BEHÖVER VI BYTA DATUM! VI HOPPAS KUNNA ÅTERKOMMA SNART MED ETT NYTT!*\n\nSker mirakler idag – på riktigt?\n…Mirakler\, frukost och samtal med Micael Grenholm.\nVälkommen till en spännande frukost med Micael Grenholm\, som presenterar forskningen bakom sin bok “Dokumenterade mirakler”. Vi bjuder på frukost\, föredrag och öppet samtal om mirakulösa helanden – för dig som undrar\, söker\, längtar\, eller bara är nyfiken. \nLördag 23 augusti\, kl 10-13\n100 kr (inkl. frukost) / 11-18 åringar 80 kr\n📍 Stockholm Vineyard\, Aniaravägen 8\, Sollentuna \nAnmäl dig och den du vill bjuda med genom att swisha 100 kr per person med namn och ev. specialkost (senast 20 aug) till Stockholm Vineyard 123 540 61 29.
URL:https://stockholm.vineyard.se/kalender/mirakler-frukost-och-samtal-med-micael-grenholm/
LOCATION:Stockholm Vineyard\, Aniaraplatsen 8\, Sollentuna\, 191 48\, Sweden
CATEGORIES:Frukost,Seminarium
END:VEVENT
END:VCALENDAR