BEGIN:VCALENDAR
VERSION:2.0
PRODID:-//Stockholm Vineyard - ECPv6.15.20//NONSGML v1.0//EN
CALSCALE:GREGORIAN
METHOD:PUBLISH
X-ORIGINAL-URL:https://stockholm.vineyard.se
X-WR-CALDESC:Händelser för Stockholm Vineyard
REFRESH-INTERVAL;VALUE=DURATION:PT1H
X-Robots-Tag:noindex
X-PUBLISHED-TTL:PT1H
BEGIN:VTIMEZONE
TZID:Europe/Stockholm
BEGIN:DAYLIGHT
TZOFFSETFROM:+0100
TZOFFSETTO:+0200
TZNAME:CEST
DTSTART:20210328T010000
END:DAYLIGHT
BEGIN:STANDARD
TZOFFSETFROM:+0200
TZOFFSETTO:+0100
TZNAME:CET
DTSTART:20211031T010000
END:STANDARD
BEGIN:DAYLIGHT
TZOFFSETFROM:+0100
TZOFFSETTO:+0200
TZNAME:CEST
DTSTART:20220327T010000
END:DAYLIGHT
BEGIN:STANDARD
TZOFFSETFROM:+0200
TZOFFSETTO:+0100
TZNAME:CET
DTSTART:20221030T010000
END:STANDARD
BEGIN:DAYLIGHT
TZOFFSETFROM:+0100
TZOFFSETTO:+0200
TZNAME:CEST
DTSTART:20230326T010000
END:DAYLIGHT
BEGIN:STANDARD
TZOFFSETFROM:+0200
TZOFFSETTO:+0100
TZNAME:CET
DTSTART:20231029T010000
END:STANDARD
END:VTIMEZONE
BEGIN:VEVENT
DTSTART;TZID=Europe/Stockholm:20221125T190000
DTEND;TZID=Europe/Stockholm:20221125T210000
DTSTAMP:20260423T083606
CREATED:20221124T170448Z
LAST-MODIFIED:20221124T170448Z
UID:35907-1669402800-1669410000@stockholm.vineyard.se
SUMMARY:Club OAK - Konsert
DESCRIPTION:Välkommen på konsert med A Treehouse Wait och Joel Gabrielsson \nFri entré! \nA Treehouse WaitA Treehouse Wait är ett Stockholmsbaserat band\, centrerat kring låtskrivare och frontfigur Jenny Gajicki. Musiken har förklarats som indie-akustisk och melodisk pop och tenderar att kretsa runt livets längtan och kamper. Läs mer på https://www.instagram.com/atreehousewait/. Lyssna på Spotify. \nJoel GabrielssonJoel är musiker och producent verksam i olika musikaliska konstellationer. Våren 2021 debuterade han i eget namn med EPn Citadel (Jivvär Records) och blev uppmärksammad i svensk och internationell press. Musiken har beskrivits som en mix av indie/singersongwriter med inslag av kammarpop. Bl.a. Franska Rolling Stone har jämfört honom musikaliskt med Thom Yorke. Med sig på scen har han pianisten Andreaz Hedén (Tomas Andersson Wij\, Jonathan Johansson). Läs mer på https://www.instagram.com/joelgabrielsson/. Lyssna på Spotify.
URL:https://stockholm.vineyard.se/kalender/club-oak-konsert-2/
LOCATION:Stockholm Vineyard\, Aniaraplatsen 8\, Sollentuna\, 191 48\, Sweden
CATEGORIES:Konsert
END:VEVENT
END:VCALENDAR