BEGIN:VCALENDAR
VERSION:2.0
PRODID:-//Stockholm Vineyard - ECPv6.15.20//NONSGML v1.0//EN
CALSCALE:GREGORIAN
METHOD:PUBLISH
X-WR-CALNAME:Stockholm Vineyard
X-ORIGINAL-URL:https://stockholm.vineyard.se
X-WR-CALDESC:Händelser för Stockholm Vineyard
REFRESH-INTERVAL;VALUE=DURATION:PT1H
X-Robots-Tag:noindex
X-PUBLISHED-TTL:PT1H
BEGIN:VTIMEZONE
TZID:Europe/Stockholm
BEGIN:DAYLIGHT
TZOFFSETFROM:+0100
TZOFFSETTO:+0200
TZNAME:CEST
DTSTART:20250330T010000
END:DAYLIGHT
BEGIN:STANDARD
TZOFFSETFROM:+0200
TZOFFSETTO:+0100
TZNAME:CET
DTSTART:20251026T010000
END:STANDARD
BEGIN:DAYLIGHT
TZOFFSETFROM:+0100
TZOFFSETTO:+0200
TZNAME:CEST
DTSTART:20260329T010000
END:DAYLIGHT
BEGIN:STANDARD
TZOFFSETFROM:+0200
TZOFFSETTO:+0100
TZNAME:CET
DTSTART:20261025T010000
END:STANDARD
BEGIN:DAYLIGHT
TZOFFSETFROM:+0100
TZOFFSETTO:+0200
TZNAME:CEST
DTSTART:20270328T010000
END:DAYLIGHT
BEGIN:STANDARD
TZOFFSETFROM:+0200
TZOFFSETTO:+0100
TZNAME:CET
DTSTART:20271031T010000
END:STANDARD
END:VTIMEZONE
BEGIN:VEVENT
DTSTART;TZID=Europe/Stockholm:20260503T110000
DTEND;TZID=Europe/Stockholm:20260503T130000
DTSTAMP:20260425T173821
CREATED:20251117T194303Z
LAST-MODIFIED:20251117T194303Z
UID:37462-1777806000-1777813200@stockholm.vineyard.se
SUMMARY:Gudstjänst
DESCRIPTION:Välkommen att fira gudstjänst! Vi sjunger lovsång\, tillber\, lyssnar på undervisning och fikar tillsammans.
URL:https://stockholm.vineyard.se/kalender/gudstjanst-228/
LOCATION:Stockholm Vineyard\, Aniaraplatsen 8\, Sollentuna\, 191 48\, Sweden
CATEGORIES:Gudstjänst
ATTACH;FMTTYPE=image/png:https://stockholm.vineyard.se/wp-content/uploads/2022/08/general-sunday-service-1100.png
END:VEVENT
BEGIN:VEVENT
DTSTART;TZID=Europe/Stockholm:20260510T110000
DTEND;TZID=Europe/Stockholm:20260510T130000
DTSTAMP:20260425T173821
CREATED:20251117T194304Z
LAST-MODIFIED:20251117T194304Z
UID:37463-1778410800-1778418000@stockholm.vineyard.se
SUMMARY:Gudstjänst
DESCRIPTION:Välkommen att fira gudstjänst! Vi sjunger lovsång\, tillber\, lyssnar på undervisning och fikar tillsammans.
URL:https://stockholm.vineyard.se/kalender/gudstjanst-229/
LOCATION:Stockholm Vineyard\, Aniaraplatsen 8\, Sollentuna\, 191 48\, Sweden
CATEGORIES:Gudstjänst
ATTACH;FMTTYPE=image/png:https://stockholm.vineyard.se/wp-content/uploads/2022/08/general-sunday-service-1100.png
END:VEVENT
BEGIN:VEVENT
DTSTART;TZID=Europe/Stockholm:20260517T110000
DTEND;TZID=Europe/Stockholm:20260517T130000
DTSTAMP:20260425T173821
CREATED:20251117T194315Z
LAST-MODIFIED:20251117T194315Z
UID:37464-1779015600-1779022800@stockholm.vineyard.se
SUMMARY:Gudstjänst
DESCRIPTION:Välkommen att fira gudstjänst! Vi sjunger lovsång\, tillber\, lyssnar på undervisning och fikar tillsammans.
URL:https://stockholm.vineyard.se/kalender/gudstjanst-230/
LOCATION:Stockholm Vineyard\, Aniaraplatsen 8\, Sollentuna\, 191 48\, Sweden
CATEGORIES:Gudstjänst
ATTACH;FMTTYPE=image/png:https://stockholm.vineyard.se/wp-content/uploads/2022/08/general-sunday-service-1100.png
END:VEVENT
BEGIN:VEVENT
DTSTART;TZID=Europe/Stockholm:20260524T110000
DTEND;TZID=Europe/Stockholm:20260524T130000
DTSTAMP:20260425T173821
CREATED:20251117T194317Z
LAST-MODIFIED:20251117T194317Z
UID:37465-1779620400-1779627600@stockholm.vineyard.se
SUMMARY:Gudstjänst
DESCRIPTION:Välkommen att fira gudstjänst! Vi sjunger lovsång\, tillber\, lyssnar på undervisning och fikar tillsammans.
URL:https://stockholm.vineyard.se/kalender/gudstjanst-231/
LOCATION:Stockholm Vineyard\, Aniaraplatsen 8\, Sollentuna\, 191 48\, Sweden
CATEGORIES:Gudstjänst
ATTACH;FMTTYPE=image/png:https://stockholm.vineyard.se/wp-content/uploads/2022/08/general-sunday-service-1100.png
END:VEVENT
BEGIN:VEVENT
DTSTART;TZID=Europe/Stockholm:20260531T110000
DTEND;TZID=Europe/Stockholm:20260531T130000
DTSTAMP:20260425T173821
CREATED:20251117T194317Z
LAST-MODIFIED:20251117T194317Z
UID:37466-1780225200-1780232400@stockholm.vineyard.se
SUMMARY:Gudstjänst
DESCRIPTION:Välkommen att fira gudstjänst! Vi sjunger lovsång\, tillber\, lyssnar på undervisning och fikar tillsammans.
URL:https://stockholm.vineyard.se/kalender/gudstjanst-232/
LOCATION:Stockholm Vineyard\, Aniaraplatsen 8\, Sollentuna\, 191 48\, Sweden
CATEGORIES:Gudstjänst
ATTACH;FMTTYPE=image/png:https://stockholm.vineyard.se/wp-content/uploads/2022/08/general-sunday-service-1100.png
END:VEVENT
END:VCALENDAR