BEGIN:VCALENDAR
VERSION:2.0
PRODID:-//Stockholm Vineyard - ECPv6.15.20//NONSGML v1.0//EN
CALSCALE:GREGORIAN
METHOD:PUBLISH
X-WR-CALNAME:Stockholm Vineyard
X-ORIGINAL-URL:https://stockholm.vineyard.se
X-WR-CALDESC:Händelser för Stockholm Vineyard
REFRESH-INTERVAL;VALUE=DURATION:PT1H
X-Robots-Tag:noindex
X-PUBLISHED-TTL:PT1H
BEGIN:VTIMEZONE
TZID:Europe/Stockholm
BEGIN:DAYLIGHT
TZOFFSETFROM:+0100
TZOFFSETTO:+0200
TZNAME:CEST
DTSTART:20250330T010000
END:DAYLIGHT
BEGIN:STANDARD
TZOFFSETFROM:+0200
TZOFFSETTO:+0100
TZNAME:CET
DTSTART:20251026T010000
END:STANDARD
BEGIN:DAYLIGHT
TZOFFSETFROM:+0100
TZOFFSETTO:+0200
TZNAME:CEST
DTSTART:20260329T010000
END:DAYLIGHT
BEGIN:STANDARD
TZOFFSETFROM:+0200
TZOFFSETTO:+0100
TZNAME:CET
DTSTART:20261025T010000
END:STANDARD
BEGIN:DAYLIGHT
TZOFFSETFROM:+0100
TZOFFSETTO:+0200
TZNAME:CEST
DTSTART:20270328T010000
END:DAYLIGHT
BEGIN:STANDARD
TZOFFSETFROM:+0200
TZOFFSETTO:+0100
TZNAME:CET
DTSTART:20271031T010000
END:STANDARD
END:VTIMEZONE
BEGIN:VEVENT
DTSTART;TZID=Europe/Stockholm:20260320T180000
DTEND;TZID=Europe/Stockholm:20260320T213000
DTSTAMP:20260425T173810
CREATED:20260303T144302Z
LAST-MODIFIED:20260303T144302Z
UID:37707-1774029600-1774042200@stockholm.vineyard.se
SUMMARY:Girls night!
DESCRIPTION:Welcome to girls night!WOMEN ONLY\n\nFriday 20 march\, at O’Learys in Mall of Scandinavia\, from 18:00-\nThis time we’re playing pool/ biljard.\n\n100kr/ person (swish or cash to Stephanie C).\n\nYou’re welcome to invite friends!18+ (adults only)
URL:https://stockholm.vineyard.se/kalender/girls-night-2/
LOCATION:O’Learys\, Westfield Mall of Scandinavia\, Solna
CATEGORIES:Gemenskap
ATTACH;FMTTYPE=image/png:https://stockholm.vineyard.se/wp-content/uploads/2026/02/26.png
END:VEVENT
BEGIN:VEVENT
DTSTART;TZID=Europe/Stockholm:20260320T180000
DTEND;TZID=Europe/Stockholm:20260320T213000
DTSTAMP:20260425T173810
CREATED:20260303T144628Z
LAST-MODIFIED:20260303T144628Z
UID:37712-1774029600-1774042200@stockholm.vineyard.se
SUMMARY:Guys night!
DESCRIPTION:Welcome to guys night!MEN ONLY\n\nFriday 20 march\, at O’Learys in Kista Galleria\, from 18:00-\nThis time we’re playing shuffleboard.\n\n100kr/ person (swish or cash to Alex C).\n\nYou’re welcome to invite friends!18+ (adults only)
URL:https://stockholm.vineyard.se/kalender/guys-night-2/
LOCATION:O’Learys\, Kista Galleria\, Kista\, 16491\, Sweden
CATEGORIES:Gemenskap
ATTACH;FMTTYPE=image/png:https://stockholm.vineyard.se/wp-content/uploads/2026/02/27.png
END:VEVENT
END:VCALENDAR