BEGIN:VCALENDAR
VERSION:2.0
PRODID:-//Stockholm Vineyard - ECPv6.15.20//NONSGML v1.0//EN
CALSCALE:GREGORIAN
METHOD:PUBLISH
X-WR-CALNAME:Stockholm Vineyard
X-ORIGINAL-URL:https://stockholm.vineyard.se
X-WR-CALDESC:Händelser för Stockholm Vineyard
REFRESH-INTERVAL;VALUE=DURATION:PT1H
X-Robots-Tag:noindex
X-PUBLISHED-TTL:PT1H
BEGIN:VTIMEZONE
TZID:Europe/Stockholm
BEGIN:DAYLIGHT
TZOFFSETFROM:+0100
TZOFFSETTO:+0200
TZNAME:CEST
DTSTART:20210328T010000
END:DAYLIGHT
BEGIN:STANDARD
TZOFFSETFROM:+0200
TZOFFSETTO:+0100
TZNAME:CET
DTSTART:20211031T010000
END:STANDARD
BEGIN:DAYLIGHT
TZOFFSETFROM:+0100
TZOFFSETTO:+0200
TZNAME:CEST
DTSTART:20220327T010000
END:DAYLIGHT
BEGIN:STANDARD
TZOFFSETFROM:+0200
TZOFFSETTO:+0100
TZNAME:CET
DTSTART:20221030T010000
END:STANDARD
BEGIN:DAYLIGHT
TZOFFSETFROM:+0100
TZOFFSETTO:+0200
TZNAME:CEST
DTSTART:20230326T010000
END:DAYLIGHT
BEGIN:STANDARD
TZOFFSETFROM:+0200
TZOFFSETTO:+0100
TZNAME:CET
DTSTART:20231029T010000
END:STANDARD
END:VTIMEZONE
BEGIN:VEVENT
DTSTART;TZID=Europe/Stockholm:20220916T183000
DTEND;TZID=Europe/Stockholm:20220916T203000
DTSTAMP:20260422T064422
CREATED:20220820T135621Z
LAST-MODIFIED:20220902T211509Z
UID:35519-1663353000-1663360200@stockholm.vineyard.se
SUMMARY:Knytis med bön och ministry
DESCRIPTION:Alla är välkommna! Plats meddelas snart.
URL:https://stockholm.vineyard.se/kalender/ledarknytis/
CATEGORIES:Gemenskap,Ledarknytis
END:VEVENT
BEGIN:VEVENT
DTSTART;TZID=Europe/Stockholm:20220918T130000
DTEND;TZID=Europe/Stockholm:20220918T140000
DTSTAMP:20260422T064422
CREATED:20220820T135848Z
LAST-MODIFIED:20220820T135848Z
UID:35521-1663506000-1663509600@stockholm.vineyard.se
SUMMARY:Picknick i Malmparken (vid bra väder)
DESCRIPTION:Vid bra väder träffas vi för picknick i Malmparken.
URL:https://stockholm.vineyard.se/kalender/picknick-i-malmparken-vid-bra-vader/
LOCATION:Malmparken\, Malmparken\, Sollentuna\, 191 60
CATEGORIES:Gemenskap
ATTACH;FMTTYPE=image/png:https://stockholm.vineyard.se/wp-content/uploads/2022/08/picknick-general.png
END:VEVENT
BEGIN:VEVENT
DTSTART;TZID=Europe/Stockholm:20220925T130000
DTEND;TZID=Europe/Stockholm:20220925T140000
DTSTAMP:20260422T064422
CREATED:20220820T140244Z
LAST-MODIFIED:20220820T140244Z
UID:35525-1664110800-1664114400@stockholm.vineyard.se
SUMMARY:Picknick i Malmparken (vid bra väder)
DESCRIPTION:Vid bra väder träffas vi träffas för picknick i Malmparken.
URL:https://stockholm.vineyard.se/kalender/picknick-i-malmparken-vid-bra-vader-2/
LOCATION:Malmparken\, Malmparken\, Sollentuna\, 191 60
CATEGORIES:Gemenskap
ATTACH;FMTTYPE=image/png:https://stockholm.vineyard.se/wp-content/uploads/2022/08/picknick-general.png
END:VEVENT
END:VCALENDAR