BEGIN:VCALENDAR
VERSION:2.0
PRODID:-//Stockholm Vineyard - ECPv6.15.20//NONSGML v1.0//EN
CALSCALE:GREGORIAN
METHOD:PUBLISH
X-WR-CALNAME:Stockholm Vineyard
X-ORIGINAL-URL:https://stockholm.vineyard.se
X-WR-CALDESC:Händelser för Stockholm Vineyard
REFRESH-INTERVAL;VALUE=DURATION:PT1H
X-Robots-Tag:noindex
X-PUBLISHED-TTL:PT1H
BEGIN:VTIMEZONE
TZID:Europe/Stockholm
BEGIN:DAYLIGHT
TZOFFSETFROM:+0100
TZOFFSETTO:+0200
TZNAME:CEST
DTSTART:20210328T010000
END:DAYLIGHT
BEGIN:STANDARD
TZOFFSETFROM:+0200
TZOFFSETTO:+0100
TZNAME:CET
DTSTART:20211031T010000
END:STANDARD
BEGIN:DAYLIGHT
TZOFFSETFROM:+0100
TZOFFSETTO:+0200
TZNAME:CEST
DTSTART:20220327T010000
END:DAYLIGHT
BEGIN:STANDARD
TZOFFSETFROM:+0200
TZOFFSETTO:+0100
TZNAME:CET
DTSTART:20221030T010000
END:STANDARD
BEGIN:DAYLIGHT
TZOFFSETFROM:+0100
TZOFFSETTO:+0200
TZNAME:CEST
DTSTART:20230326T010000
END:DAYLIGHT
BEGIN:STANDARD
TZOFFSETFROM:+0200
TZOFFSETTO:+0100
TZNAME:CET
DTSTART:20231029T010000
END:STANDARD
END:VTIMEZONE
BEGIN:VEVENT
DTSTART;TZID=Europe/Stockholm:20220809T180000
DTEND;TZID=Europe/Stockholm:20220809T200000
DTSTAMP:20260422T084356
CREATED:20220618T082559Z
LAST-MODIFIED:20220618T082559Z
UID:35434-1660068000-1660075200@stockholm.vineyard.se
SUMMARY:Grill och häng
DESCRIPTION:Kom och grilla och häng tillsammans med oss vid Edsvikens utegym. Vi börjar kl.18\, ta med något att dricka och grilla.
URL:https://stockholm.vineyard.se/kalender/grill-och-hang/
LOCATION:Utegym Strandvägen 13\, Sollenuna\, Strandvägen 13\, Sollentuna\, Sweden
CATEGORIES:Gemenskap
END:VEVENT
BEGIN:VEVENT
DTSTART;TZID=Europe/Stockholm:20220828T130000
DTEND;TZID=Europe/Stockholm:20220828T140000
DTSTAMP:20260422T084356
CREATED:20220820T130130Z
LAST-MODIFIED:20220820T130130Z
UID:35509-1661691600-1661695200@stockholm.vineyard.se
SUMMARY:Picknick i Malmparken
DESCRIPTION:Picknick i Malmparken efter gudstjänsten.
URL:https://stockholm.vineyard.se/kalender/picknick-i-malmparken-2/
LOCATION:Malmparken\, Malmparken\, Sollentuna\, 191 60
CATEGORIES:Gemenskap
ATTACH;FMTTYPE=image/png:https://stockholm.vineyard.se/wp-content/uploads/2022/08/picknick-general.png
END:VEVENT
END:VCALENDAR