BEGIN:VCALENDAR
VERSION:2.0
PRODID:-//Stockholm Vineyard - ECPv6.15.20//NONSGML v1.0//EN
CALSCALE:GREGORIAN
METHOD:PUBLISH
X-WR-CALNAME:Stockholm Vineyard
X-ORIGINAL-URL:https://stockholm.vineyard.se
X-WR-CALDESC:Händelser för Stockholm Vineyard
REFRESH-INTERVAL;VALUE=DURATION:PT1H
X-Robots-Tag:noindex
X-PUBLISHED-TTL:PT1H
BEGIN:VTIMEZONE
TZID:Europe/Stockholm
BEGIN:DAYLIGHT
TZOFFSETFROM:+0100
TZOFFSETTO:+0200
TZNAME:CEST
DTSTART:20210328T010000
END:DAYLIGHT
BEGIN:STANDARD
TZOFFSETFROM:+0200
TZOFFSETTO:+0100
TZNAME:CET
DTSTART:20211031T010000
END:STANDARD
BEGIN:DAYLIGHT
TZOFFSETFROM:+0100
TZOFFSETTO:+0200
TZNAME:CEST
DTSTART:20220327T010000
END:DAYLIGHT
BEGIN:STANDARD
TZOFFSETFROM:+0200
TZOFFSETTO:+0100
TZNAME:CET
DTSTART:20221030T010000
END:STANDARD
BEGIN:DAYLIGHT
TZOFFSETFROM:+0100
TZOFFSETTO:+0200
TZNAME:CEST
DTSTART:20230326T010000
END:DAYLIGHT
BEGIN:STANDARD
TZOFFSETFROM:+0200
TZOFFSETTO:+0100
TZNAME:CET
DTSTART:20231029T010000
END:STANDARD
END:VTIMEZONE
BEGIN:VEVENT
DTSTART;TZID=Europe/Stockholm:20220710T100000
DTEND;TZID=Europe/Stockholm:20220710T113000
DTSTAMP:20260422T102650
CREATED:20220618T080834Z
LAST-MODIFIED:20220618T080834Z
UID:35428-1657447200-1657452600@stockholm.vineyard.se
SUMMARY:Church at the beach
DESCRIPTION:Välkommen till en stund av tillbedjan och gemenskap vid Sätrastrandbadet i Sollentuna. Vi börjar kl.10:00
URL:https://stockholm.vineyard.se/kalender/church-at-the-beach/
LOCATION:Sätrastranbadet\, Alsätravägen 250\, Skärholmen\, 127 36\, Sweden
CATEGORIES:Gemenskap,Lovsång
END:VEVENT
BEGIN:VEVENT
DTSTART;TZID=Europe/Stockholm:20220717T140000
DTEND;TZID=Europe/Stockholm:20220723T130000
DTSTAMP:20260422T102650
CREATED:20220409T170453Z
LAST-MODIFIED:20220409T170453Z
UID:35343-1658066400-1658581200@stockholm.vineyard.se
SUMMARY:Vinyard Nordic Summercamp
DESCRIPTION:Welcome to the event of the year: Vineyard Nordic Summercamp. For more information and registration\, visit http://summercamp.vineyardnordic.org
URL:https://stockholm.vineyard.se/kalender/vinyard-nordic-summercamp/
LOCATION:Nyhem\, Nyhemshallen 1\, Mullsjö\, Sweden
CATEGORIES:Gemenskap,Konferens,Lovsång,Undervisning
END:VEVENT
END:VCALENDAR