BEGIN:VCALENDAR
VERSION:2.0
PRODID:-//Stockholm Vineyard - ECPv6.15.20//NONSGML v1.0//EN
CALSCALE:GREGORIAN
METHOD:PUBLISH
X-ORIGINAL-URL:https://stockholm.vineyard.se
X-WR-CALDESC:Händelser för Stockholm Vineyard
REFRESH-INTERVAL;VALUE=DURATION:PT1H
X-Robots-Tag:noindex
X-PUBLISHED-TTL:PT1H
BEGIN:VTIMEZONE
TZID:Europe/Stockholm
BEGIN:DAYLIGHT
TZOFFSETFROM:+0100
TZOFFSETTO:+0200
TZNAME:CEST
DTSTART:20210328T010000
END:DAYLIGHT
BEGIN:STANDARD
TZOFFSETFROM:+0200
TZOFFSETTO:+0100
TZNAME:CET
DTSTART:20211031T010000
END:STANDARD
BEGIN:DAYLIGHT
TZOFFSETFROM:+0100
TZOFFSETTO:+0200
TZNAME:CEST
DTSTART:20220327T010000
END:DAYLIGHT
BEGIN:STANDARD
TZOFFSETFROM:+0200
TZOFFSETTO:+0100
TZNAME:CET
DTSTART:20221030T010000
END:STANDARD
BEGIN:DAYLIGHT
TZOFFSETFROM:+0100
TZOFFSETTO:+0200
TZNAME:CEST
DTSTART:20230326T010000
END:DAYLIGHT
BEGIN:STANDARD
TZOFFSETFROM:+0200
TZOFFSETTO:+0100
TZNAME:CET
DTSTART:20231029T010000
END:STANDARD
END:VTIMEZONE
BEGIN:VEVENT
DTSTART;TZID=Europe/Stockholm:20220312T170000
DTEND;TZID=Europe/Stockholm:20220312T213000
DTSTAMP:20260422T212105
CREATED:20220305T102705Z
LAST-MODIFIED:20220305T102705Z
UID:35306-1647104400-1647120600@stockholm.vineyard.se
SUMMARY:An evening of worship & community with guest Derek Morphew
DESCRIPTION:Vineyard-teologen Derek Morphew kommer nu till Stockholm från Sydafrika och vi har fått förmånen att få några dagar tillsammans med honom! \nFörst bjuder vi in till en kväll tillsammans med Derek\, lördag 12 mars hemma hos Andreaz och Tina Hedén på Stjärnviksvägen 24\, Upplands Väsy. Vi kommer att umgås\, lovsjunga\, äta och be. Vi har bett Derek att fritt dela det han upplever Gud har lagt på hans hjärta för oss.  \nVi samlas kl 17\, börja lovsjunga kl 17.20 ungefär och äta  kl 18.\nDerek talar från kl 19 och därefter vill vi be och se vart Gud leder. \nFacbook event: https://fb.me/e/7BfFV42j1
URL:https://stockholm.vineyard.se/kalender/an-evening-of-worship-community-with-guest-derek-morphew/
LOCATION:Stjärnviksvägen 24\, Upplands Väsby\, Stjärnviksvägen 24\, Upplands Väsby
CATEGORIES:Bön,Gemenskap,Undervisning
END:VEVENT
BEGIN:VEVENT
DTSTART;TZID=Europe/Stockholm:20220327T103000
DTEND;TZID=Europe/Stockholm:20220327T120000
DTSTAMP:20260422T212105
CREATED:20220326T112932Z
LAST-MODIFIED:20220326T112932Z
UID:35315-1648377000-1648382400@stockholm.vineyard.se
SUMMARY:Söndagsgemenskap
DESCRIPTION:Varannan söndag (ojämna veckor) har vi gudstjänst i Amorinasalen\, Aniaraplatsen 2\, Sollentuna. Kl 10.30. Varannan söndag (jämna veckor) vill vi gärna bjuda in till andra sätt att samlas på! \nDenna söndag är du varmt välkommen hem till familjen Thunborg på Skoldalsvägen 29B\, i Sollentuna. Det blir en avslappnad samling i hemmamiljö med bön\, lovsång och knytisfika. Alla är välkomna! Det går också att delta via zoom. \nEvery other Sunday (uneven weeks) we gather together for a Sunday service in Amorinasalen\, Aniaraplatsen 2\, Sollentuna at 10:30 am.\nEvery other Sunday (even weeks) we would like to invite to other kinds of gatherings. \nThis Sunday we’re going to meet together in a home environment. It will be a relaxed gathering with prayer\, worship and potluck ”fika” at Skoldalsvägen 29B\, Sollentuna. Everyone is welcome! You can also participate on zoom.
URL:https://stockholm.vineyard.se/kalender/sondagsgemenskap-5/
LOCATION:Skoldalsvägen 29B\, Sollentuna\, Skoldalsvägen 29B\, Sollentuna\, Sverige
CATEGORIES:Gemenskap
END:VEVENT
END:VCALENDAR