BEGIN:VCALENDAR
VERSION:2.0
PRODID:-//Stockholm Vineyard - ECPv6.15.20//NONSGML v1.0//EN
CALSCALE:GREGORIAN
METHOD:PUBLISH
X-ORIGINAL-URL:https://stockholm.vineyard.se
X-WR-CALDESC:Händelser för Stockholm Vineyard
REFRESH-INTERVAL;VALUE=DURATION:PT1H
X-Robots-Tag:noindex
X-PUBLISHED-TTL:PT1H
BEGIN:VTIMEZONE
TZID:Europe/Stockholm
BEGIN:DAYLIGHT
TZOFFSETFROM:+0100
TZOFFSETTO:+0200
TZNAME:CEST
DTSTART:20210328T010000
END:DAYLIGHT
BEGIN:STANDARD
TZOFFSETFROM:+0200
TZOFFSETTO:+0100
TZNAME:CET
DTSTART:20211031T010000
END:STANDARD
BEGIN:DAYLIGHT
TZOFFSETFROM:+0100
TZOFFSETTO:+0200
TZNAME:CEST
DTSTART:20220327T010000
END:DAYLIGHT
BEGIN:STANDARD
TZOFFSETFROM:+0200
TZOFFSETTO:+0100
TZNAME:CET
DTSTART:20221030T010000
END:STANDARD
BEGIN:DAYLIGHT
TZOFFSETFROM:+0100
TZOFFSETTO:+0200
TZNAME:CEST
DTSTART:20230326T010000
END:DAYLIGHT
BEGIN:STANDARD
TZOFFSETFROM:+0200
TZOFFSETTO:+0100
TZNAME:CET
DTSTART:20231029T010000
END:STANDARD
END:VTIMEZONE
BEGIN:VEVENT
DTSTART;TZID=Europe/Stockholm:20220116T103000
DTEND;TZID=Europe/Stockholm:20220116T113000
DTSTAMP:20260423T004552
CREATED:20220110T201832Z
LAST-MODIFIED:20220115T165221Z
UID:35168-1642329000-1642332600@stockholm.vineyard.se
SUMMARY:Söndagsgemenskap (OBS! Mötet är flyttat till Zoom)
DESCRIPTION:OBS! Ändrade planer för samlingen söndag 16 januari \nPå grund av sjukdom och smittoläget så behöver vi tyvärr ändra planen för morgondagens samling. \nIstället för att mötas för en fysisk samling hemma hos Hedéns så möts vi på Zoom för lovsång och bibelsamtal (upptäckande bibelläsning). \nDagens text: Luk 18:1-8 ”Uthållighet i bön” \nSamma tid kl 10.30. \nLänk till Zoom: https://us02web.zoom.us/j/81230606986 \nLogga gärna in 5 minuter innan mötet startar. \nFörsamlingssamtalet som var planerat till i morgon flyttas till söndag om en vecka den 23 januari efter gudstjänsten. Korv och fika kommer att serveras till självkostnadspris. \nVälkommen! \n—— \nChanged plans for the gathering on Sunday 16 January! \nDue to illness and the current Covid situation we are changing the plans for the gathering on Sunday 16 January \nInstead of a physical gathering at Hedén’s home\, we will meet on Zoom for worship and a discovery Bible study. \nToday’s text: Luk 18:1-8 ”Perseverance in prayer” \nSame time @ 10.30am \nLink to Zoom: https://us02web.zoom.us/j/81230606986 \nPlease login 5 minutes before the meeting starts. \nThe church meeting for all who recognize Stockholm Vineyard as a church\, which was planned after lunch will be moved to the following Sunday. \nWelcome!
URL:https://stockholm.vineyard.se/kalender/sondagsgemenskap/
LOCATION:Zoom online gudstjänst
CATEGORIES:Bön,Gemenskap,Lovsång
END:VEVENT
BEGIN:VEVENT
DTSTART;TZID=Europe/Stockholm:20220130T103000
DTEND;TZID=Europe/Stockholm:20220130T120000
DTSTAMP:20260423T004552
CREATED:20220110T204638Z
LAST-MODIFIED:20220130T090224Z
UID:35174-1643538600-1643544000@stockholm.vineyard.se
SUMMARY:Söndagsgemenskap
DESCRIPTION:Varannan söndag (ojämna veckor) har vi gudstjänst i Amorinasalen\, Aniaraplatsen 2\, Sollentuna. Kl 10.30. Varannan söndag (jämna veckor) vill vi gärna bjuda in till andra sätt att samlas på! \nDenna söndag är du varmt välkommen hem till Miriam och Christian på Skoldalsvägen 29B\, Sollentuna. Det blir en avslappnad samling i hemmamiljö med bön\, lovsång och knytisfika. Alla är välkomna! \nDagens text: Luk 11:5-10 ”Jesus undervisar om bön” \nEvery other Sunday (uneven weeks) we gather together for a Sunday service in Amorinasalen\, Aniaraplatsen 2\, Sollentuna at 10:30 am.\nEvery other Sunday (even weeks) we would like to invite to other kinds of gatherings. \nThis Sunday we’re going to meet together in a home environment. It will be a relaxed gathering with prayer\, worship and potluck ”fika” at  Skoldalsvägen 29B\, Sollentuna. For all who recognize Stockholm Vineyard as their church\, there will also be a church meeting after a potluck lunch. Everyone is welcome! \nToday’s text Luk 11:5-10 ”Jesus’ Teaching on Prayer”
URL:https://stockholm.vineyard.se/kalender/sondagsgemenskap-2/
LOCATION:Skoldalsvägen 29B\, Sollentuna\, Skoldalsvägen 29B\, Sollentuna\, Sverige
CATEGORIES:Bön,Gemenskap,Lovsång
END:VEVENT
END:VCALENDAR