BEGIN:VCALENDAR
VERSION:2.0
PRODID:-//Stockholm Vineyard - ECPv6.15.20//NONSGML v1.0//EN
CALSCALE:GREGORIAN
METHOD:PUBLISH
X-WR-CALNAME:Stockholm Vineyard
X-ORIGINAL-URL:https://stockholm.vineyard.se
X-WR-CALDESC:Händelser för Stockholm Vineyard
REFRESH-INTERVAL;VALUE=DURATION:PT1H
X-Robots-Tag:noindex
X-PUBLISHED-TTL:PT1H
BEGIN:VTIMEZONE
TZID:Europe/Stockholm
BEGIN:DAYLIGHT
TZOFFSETFROM:+0100
TZOFFSETTO:+0200
TZNAME:CEST
DTSTART:20200329T010000
END:DAYLIGHT
BEGIN:STANDARD
TZOFFSETFROM:+0200
TZOFFSETTO:+0100
TZNAME:CET
DTSTART:20201025T010000
END:STANDARD
BEGIN:DAYLIGHT
TZOFFSETFROM:+0100
TZOFFSETTO:+0200
TZNAME:CEST
DTSTART:20210328T010000
END:DAYLIGHT
BEGIN:STANDARD
TZOFFSETFROM:+0200
TZOFFSETTO:+0100
TZNAME:CET
DTSTART:20211031T010000
END:STANDARD
BEGIN:DAYLIGHT
TZOFFSETFROM:+0100
TZOFFSETTO:+0200
TZNAME:CEST
DTSTART:20220327T010000
END:DAYLIGHT
BEGIN:STANDARD
TZOFFSETFROM:+0200
TZOFFSETTO:+0100
TZNAME:CET
DTSTART:20221030T010000
END:STANDARD
END:VTIMEZONE
BEGIN:VEVENT
DTSTART;TZID=Europe/Stockholm:20210402T110000
DTEND;TZID=Europe/Stockholm:20210402T140000
DTSTAMP:20260423T153457
CREATED:20210402T082447Z
LAST-MODIFIED:20210402T082447Z
UID:34570-1617361200-1617372000@stockholm.vineyard.se
SUMMARY:Påskvandring
DESCRIPTION:Påskvandring i Hagaparken. \nSamling: Parkeringen vid Koppartälten. Vi grillar efteråt\, ta med korv!
URL:https://stockholm.vineyard.se/kalender/paskvandring/
CATEGORIES:Gemenskap
END:VEVENT
END:VCALENDAR