BEGIN:VCALENDAR
VERSION:2.0
PRODID:-//Stockholm Vineyard - ECPv6.15.20//NONSGML v1.0//EN
CALSCALE:GREGORIAN
METHOD:PUBLISH
X-WR-CALNAME:Stockholm Vineyard
X-ORIGINAL-URL:https://stockholm.vineyard.se
X-WR-CALDESC:Händelser för Stockholm Vineyard
REFRESH-INTERVAL;VALUE=DURATION:PT1H
X-Robots-Tag:noindex
X-PUBLISHED-TTL:PT1H
BEGIN:VTIMEZONE
TZID:Europe/Stockholm
BEGIN:DAYLIGHT
TZOFFSETFROM:+0100
TZOFFSETTO:+0200
TZNAME:CEST
DTSTART:20240331T010000
END:DAYLIGHT
BEGIN:STANDARD
TZOFFSETFROM:+0200
TZOFFSETTO:+0100
TZNAME:CET
DTSTART:20241027T010000
END:STANDARD
BEGIN:DAYLIGHT
TZOFFSETFROM:+0100
TZOFFSETTO:+0200
TZNAME:CEST
DTSTART:20250330T010000
END:DAYLIGHT
BEGIN:STANDARD
TZOFFSETFROM:+0200
TZOFFSETTO:+0100
TZNAME:CET
DTSTART:20251026T010000
END:STANDARD
BEGIN:DAYLIGHT
TZOFFSETFROM:+0100
TZOFFSETTO:+0200
TZNAME:CEST
DTSTART:20260329T010000
END:DAYLIGHT
BEGIN:STANDARD
TZOFFSETFROM:+0200
TZOFFSETTO:+0100
TZNAME:CET
DTSTART:20261025T010000
END:STANDARD
END:VTIMEZONE
BEGIN:VEVENT
DTSTART;TZID=Europe/Stockholm:20250810T110000
DTEND;TZID=Europe/Stockholm:20250810T130000
DTSTAMP:20260419T154403
CREATED:20250812T103855Z
LAST-MODIFIED:20250812T103855Z
UID:37328-1754823600-1754830800@stockholm.vineyard.se
SUMMARY:Gudstjänst på stranden\, dop och grill!
DESCRIPTION:Välkommen till en avslappnad gudstjänst med dop vid stranden och efterföljande hamburgare grillning! \nTa med det du vill drycka och gärna något att dela med dig av. \nAlla åldrar är varmt välkomna! Ta gärna med filt eller stol att sitta på. \nVi ses vid stranden!
URL:https://stockholm.vineyard.se/kalender/gudstjanst-pa-stranden-dop-och-grill/
LOCATION:Stranden vid Edsviken utegym\, Strandvägen 13\, Sollentuna\, 19135\, Sweden
CATEGORIES:Dop,Fest,Friluftsgudstjänst,Gemenskap,Gudstjänst
END:VEVENT
END:VCALENDAR