BEGIN:VCALENDAR
VERSION:2.0
PRODID:-//Stockholm Vineyard - ECPv6.15.20//NONSGML v1.0//EN
CALSCALE:GREGORIAN
METHOD:PUBLISH
X-WR-CALNAME:Stockholm Vineyard
X-ORIGINAL-URL:https://stockholm.vineyard.se
X-WR-CALDESC:Händelser för Stockholm Vineyard
REFRESH-INTERVAL;VALUE=DURATION:PT1H
X-Robots-Tag:noindex
X-PUBLISHED-TTL:PT1H
BEGIN:VTIMEZONE
TZID:Europe/Stockholm
BEGIN:DAYLIGHT
TZOFFSETFROM:+0100
TZOFFSETTO:+0200
TZNAME:CEST
DTSTART:20230326T010000
END:DAYLIGHT
BEGIN:STANDARD
TZOFFSETFROM:+0200
TZOFFSETTO:+0100
TZNAME:CET
DTSTART:20231029T010000
END:STANDARD
BEGIN:DAYLIGHT
TZOFFSETFROM:+0100
TZOFFSETTO:+0200
TZNAME:CEST
DTSTART:20240331T010000
END:DAYLIGHT
BEGIN:STANDARD
TZOFFSETFROM:+0200
TZOFFSETTO:+0100
TZNAME:CET
DTSTART:20241027T010000
END:STANDARD
BEGIN:DAYLIGHT
TZOFFSETFROM:+0100
TZOFFSETTO:+0200
TZNAME:CEST
DTSTART:20250330T010000
END:DAYLIGHT
BEGIN:STANDARD
TZOFFSETFROM:+0200
TZOFFSETTO:+0100
TZNAME:CET
DTSTART:20251026T010000
END:STANDARD
END:VTIMEZONE
BEGIN:VEVENT
DTSTART;TZID=Europe/Stockholm:20240625T180000
DTEND;TZID=Europe/Stockholm:20240625T210000
DTSTAMP:20260420T142203
CREATED:20240620T141806Z
LAST-MODIFIED:20240620T141806Z
UID:36756-1719338400-1719349200@stockholm.vineyard.se
SUMMARY:Grillknytis / BBQ potluck!
DESCRIPTION:Alla är välkommen att vara med! \nTa med det du vill grilla och dricka och gärna lite till att dela. Se tid och plats nedan. \n  \n//Everyone is welcome! \nBring what you’d like to grill and eat and a little more to share. See the time and place below.
URL:https://stockholm.vineyard.se/kalender/grillknytis-bbq-potluck/
LOCATION:Andreaz och Tina\, Stjärnviksvägen 24\, Upplands Väsby\, Sverige
CATEGORIES:Fest,Outreach
ATTACH;FMTTYPE=image/png:https://stockholm.vineyard.se/wp-content/uploads/2024/06/SV-Grillknytis.png
END:VEVENT
END:VCALENDAR