BEGIN:VCALENDAR
VERSION:2.0
PRODID:-//Stockholm Vineyard - ECPv6.15.20//NONSGML v1.0//EN
CALSCALE:GREGORIAN
METHOD:PUBLISH
X-ORIGINAL-URL:https://stockholm.vineyard.se
X-WR-CALDESC:Händelser för Stockholm Vineyard
REFRESH-INTERVAL;VALUE=DURATION:PT1H
X-Robots-Tag:noindex
X-PUBLISHED-TTL:PT1H
BEGIN:VTIMEZONE
TZID:Europe/Stockholm
BEGIN:DAYLIGHT
TZOFFSETFROM:+0100
TZOFFSETTO:+0200
TZNAME:CEST
DTSTART:20210328T010000
END:DAYLIGHT
BEGIN:STANDARD
TZOFFSETFROM:+0200
TZOFFSETTO:+0100
TZNAME:CET
DTSTART:20211031T010000
END:STANDARD
BEGIN:DAYLIGHT
TZOFFSETFROM:+0100
TZOFFSETTO:+0200
TZNAME:CEST
DTSTART:20220327T010000
END:DAYLIGHT
BEGIN:STANDARD
TZOFFSETFROM:+0200
TZOFFSETTO:+0100
TZNAME:CET
DTSTART:20221030T010000
END:STANDARD
BEGIN:DAYLIGHT
TZOFFSETFROM:+0100
TZOFFSETTO:+0200
TZNAME:CEST
DTSTART:20230326T010000
END:DAYLIGHT
BEGIN:STANDARD
TZOFFSETFROM:+0200
TZOFFSETTO:+0100
TZNAME:CET
DTSTART:20231029T010000
END:STANDARD
END:VTIMEZONE
BEGIN:VEVENT
DTSTART;TZID=Europe/Stockholm:20221217T190000
DTEND;TZID=Europe/Stockholm:20221217T213000
DTSTAMP:20260421T235247
CREATED:20221217T132432Z
LAST-MODIFIED:20221217T132548Z
UID:35958-1671303600-1671312600@stockholm.vineyard.se
SUMMARY:Julfest med livemusik
DESCRIPTION:Välkommen till vår julfest\,\nalla är välkommen!\nTar gärna med något av dina favorit julsnacks/ godis/ dessert då blir det en juligt dessertbord att äta tillsammans!\nDet kommer att finnas brädspel\, musik och lekar och priser för de mest galna\, fula Jul tröjor!\nVälkommen att fira med oss \n. . . . . .\nWelcome to our Christmas party\,\neveryone is welcome! \n\nBring along some of your favorite Christmas snacks/ sweets/ desserts and there’ll be a table covered in them to share together. There’ll be board games\, music & games and prizes for the craziest ugly Christmas jumpers!\nCome and celebrate with us
URL:https://stockholm.vineyard.se/kalender/julfest-med-livemusik/
CATEGORIES:Fest
END:VEVENT
END:VCALENDAR