BEGIN:VCALENDAR
VERSION:2.0
PRODID:-//Stockholm Vineyard - ECPv6.15.20//NONSGML v1.0//EN
CALSCALE:GREGORIAN
METHOD:PUBLISH
X-ORIGINAL-URL:https://stockholm.vineyard.se
X-WR-CALDESC:Händelser för Stockholm Vineyard
REFRESH-INTERVAL;VALUE=DURATION:PT1H
X-Robots-Tag:noindex
X-PUBLISHED-TTL:PT1H
BEGIN:VTIMEZONE
TZID:Europe/Stockholm
BEGIN:DAYLIGHT
TZOFFSETFROM:+0100
TZOFFSETTO:+0200
TZNAME:CEST
DTSTART:20200329T010000
END:DAYLIGHT
BEGIN:STANDARD
TZOFFSETFROM:+0200
TZOFFSETTO:+0100
TZNAME:CET
DTSTART:20201025T010000
END:STANDARD
BEGIN:DAYLIGHT
TZOFFSETFROM:+0100
TZOFFSETTO:+0200
TZNAME:CEST
DTSTART:20210328T010000
END:DAYLIGHT
BEGIN:STANDARD
TZOFFSETFROM:+0200
TZOFFSETTO:+0100
TZNAME:CET
DTSTART:20211031T010000
END:STANDARD
BEGIN:DAYLIGHT
TZOFFSETFROM:+0100
TZOFFSETTO:+0200
TZNAME:CEST
DTSTART:20220327T010000
END:DAYLIGHT
BEGIN:STANDARD
TZOFFSETFROM:+0200
TZOFFSETTO:+0100
TZNAME:CET
DTSTART:20221030T010000
END:STANDARD
END:VTIMEZONE
BEGIN:VEVENT
DTSTART;VALUE=DATE:20211219
DTEND;VALUE=DATE:20211220
DTSTAMP:20260422T202853
CREATED:20211027T185102Z
LAST-MODIFIED:20211218T213147Z
UID:34876-1639872000-1639958399@stockholm.vineyard.se
SUMMARY:Bön\, lovsång och knytisfika
DESCRIPTION:Varannan söndag (ojämna veckor) har vi gudstjänst i Amorinasalen\, Aniaraplatsen 2\, Sollentuna. Kl 10.30. Varannan söndag (jämna veckor) vill vi gärna bjuda in till andra sätt att samlas på! \nDenna söndag är du varmt välkommen hem till Miriam och Christian Thunborg på Skoldalsvägen 29B\, Sollentuna. Det blir ett avslappnad häng i hemmamiljö då vi kommer att be\, lovsjunga och fika tillsammans. Alla är välkomna! \nEvery other Sunday (uneven weeks) we gather together for a Sunday service in Amorinasalen\, Aniaraplatsen 2\, Sollentuna at 10:30 am.\nEvery other Sunday (even weeks) we would like to invite to other kinds of gatherings. \nThis Sunday we’re going to meet together in a home environment. It will be a relaxed gathering with prayer\, worship and a potluck ’fika’ ( = cakes\, cookies etc). Everyone is welcome! \nFacebook event: https://fb.me/e/3mChHXkdk
URL:https://stockholm.vineyard.se/kalender/bon-lovsang-knytisfika/
LOCATION:Skoldalsvägen 29B\, Sollentuna\, Skoldalsvägen 29B\, Sollentuna\, Sverige
CATEGORIES:Fest,Gudstjänst
END:VEVENT
END:VCALENDAR