BEGIN:VCALENDAR
VERSION:2.0
PRODID:-//Stockholm Vineyard - ECPv6.15.20//NONSGML v1.0//EN
CALSCALE:GREGORIAN
METHOD:PUBLISH
X-WR-CALNAME:Stockholm Vineyard
X-ORIGINAL-URL:https://stockholm.vineyard.se
X-WR-CALDESC:Händelser för Stockholm Vineyard
REFRESH-INTERVAL;VALUE=DURATION:PT1H
X-Robots-Tag:noindex
X-PUBLISHED-TTL:PT1H
BEGIN:VTIMEZONE
TZID:Europe/Stockholm
BEGIN:DAYLIGHT
TZOFFSETFROM:+0100
TZOFFSETTO:+0200
TZNAME:CEST
DTSTART:20240331T010000
END:DAYLIGHT
BEGIN:STANDARD
TZOFFSETFROM:+0200
TZOFFSETTO:+0100
TZNAME:CET
DTSTART:20241027T010000
END:STANDARD
BEGIN:DAYLIGHT
TZOFFSETFROM:+0100
TZOFFSETTO:+0200
TZNAME:CEST
DTSTART:20250330T010000
END:DAYLIGHT
BEGIN:STANDARD
TZOFFSETFROM:+0200
TZOFFSETTO:+0100
TZNAME:CET
DTSTART:20251026T010000
END:STANDARD
BEGIN:DAYLIGHT
TZOFFSETFROM:+0100
TZOFFSETTO:+0200
TZNAME:CEST
DTSTART:20260329T010000
END:DAYLIGHT
BEGIN:STANDARD
TZOFFSETFROM:+0200
TZOFFSETTO:+0100
TZNAME:CET
DTSTART:20261025T010000
END:STANDARD
END:VTIMEZONE
BEGIN:VEVENT
DTSTART;TZID=Europe/Stockholm:20250629T110000
DTEND;TZID=Europe/Stockholm:20250629T123000
DTSTAMP:20260421T062159
CREATED:20250622T060417Z
LAST-MODIFIED:20250624T194859Z
UID:37188-1751194800-1751200200@stockholm.vineyard.se
SUMMARY:Gudstjänst på stranden & picknick-knytis
DESCRIPTION:Välkommen till en avslappnad gudstjänst vid vattnet! Vi samlas på stranden för en stund av gemenskap\, samtal\, bön – och picknick tillsammans. \nTa med det du vill äta och gärna något att dela med dig av. \nAlla åldrar är varmt välkomna! Ta gärna med filt eller stol att sitta på. \nVi ses vid stranden!
URL:https://stockholm.vineyard.se/kalender/gudstjanst-gemenskap-och-knytis-picknick/
LOCATION:Stranden vid Edsviken utegym\, Strandvägen 13\, Sollentuna\, 19135\, Sweden
CATEGORIES:Gemenskap
END:VEVENT
END:VCALENDAR