BEGIN:VCALENDAR
VERSION:2.0
PRODID:-//Stockholm Vineyard - ECPv6.15.20//NONSGML v1.0//EN
CALSCALE:GREGORIAN
METHOD:PUBLISH
X-WR-CALNAME:Stockholm Vineyard
X-ORIGINAL-URL:https://stockholm.vineyard.se
X-WR-CALDESC:Händelser för Stockholm Vineyard
REFRESH-INTERVAL;VALUE=DURATION:PT1H
X-Robots-Tag:noindex
X-PUBLISHED-TTL:PT1H
BEGIN:VTIMEZONE
TZID:Europe/Stockholm
BEGIN:DAYLIGHT
TZOFFSETFROM:+0100
TZOFFSETTO:+0200
TZNAME:CEST
DTSTART:20250330T010000
END:DAYLIGHT
BEGIN:STANDARD
TZOFFSETFROM:+0200
TZOFFSETTO:+0100
TZNAME:CET
DTSTART:20251026T010000
END:STANDARD
BEGIN:DAYLIGHT
TZOFFSETFROM:+0100
TZOFFSETTO:+0200
TZNAME:CEST
DTSTART:20260329T010000
END:DAYLIGHT
BEGIN:STANDARD
TZOFFSETFROM:+0200
TZOFFSETTO:+0100
TZNAME:CET
DTSTART:20261025T010000
END:STANDARD
BEGIN:DAYLIGHT
TZOFFSETFROM:+0100
TZOFFSETTO:+0200
TZNAME:CEST
DTSTART:20270328T010000
END:DAYLIGHT
BEGIN:STANDARD
TZOFFSETFROM:+0200
TZOFFSETTO:+0100
TZNAME:CET
DTSTART:20271031T010000
END:STANDARD
END:VTIMEZONE
BEGIN:VEVENT
DTSTART;TZID=Europe/Stockholm:20260606T100000
DTEND;TZID=Europe/Stockholm:20260606T160000
DTSTAMP:20260425T173333
CREATED:20251117T202452Z
LAST-MODIFIED:20251117T202452Z
UID:37497-1780740000-1780761600@stockholm.vineyard.se
SUMMARY:Outreach på nationaldagen
DESCRIPTION:Fira Nationaldagen med oss vid Edsbergs Slott!\nVi är med och möter hundratals av de flera tusen som firar där denna dag.\nScenprogrammet i parken och på Stallbacken pågår kl. 11.00–16.30.\nVi kommer kl. 10.00 för att ställa i ordning vår monter.\nVi sätter upp tält\, bord och flaggor och bjuder på en aktivitet\, kaffe\, godis\, bön\, Johannesevangeliet samt inbjudningar till församlingen och Alpha.\nVill du vara med?\nUnder dagen eller i förberedelserna – hör av dig till oss! \nDet är också en fantastisk plats och möjlighet att fira Nationaldagen tillsammans i parken. \n——- \nCelebrate Sweden’s National Day with us at Edsberg Castle!\nWe’ll join the festivities and meet hundreds of the thousands celebrating there.\nThe stage program in the park and at Stallbacken runs from 11:00 am to 4:30 pm.\nWe’ll arrive at 10:00 am to set up our stand.\nWe’ll set up our tent\, tables and flags\, and offer an activity\, coffee\, sweets\, prayer\, the Gospel of John\, and invitations to our church and Alpha.\nWould you like to join?\nDuring the day or with preparations – let us know!\nIt’s also a wonderful place and opportunity to celebrate Sweden’s National Day together in the park.
URL:https://stockholm.vineyard.se/kalender/outreach-pa-nationaldagen/
LOCATION:Edsbergs slott\, andsnoravägen 10\, Sollentuna\, 192 51\, Sweden
CATEGORIES:Outreach
ATTACH;FMTTYPE=image/jpeg:https://stockholm.vineyard.se/wp-content/uploads/2025/11/Image-1.jpeg
END:VEVENT
END:VCALENDAR