BEGIN:VCALENDAR
VERSION:2.0
PRODID:-//Stockholm Vineyard - ECPv6.15.20//NONSGML v1.0//EN
CALSCALE:GREGORIAN
METHOD:PUBLISH
X-ORIGINAL-URL:https://stockholm.vineyard.se
X-WR-CALDESC:Händelser för Stockholm Vineyard
REFRESH-INTERVAL;VALUE=DURATION:PT1H
X-Robots-Tag:noindex
X-PUBLISHED-TTL:PT1H
BEGIN:VTIMEZONE
TZID:Europe/Stockholm
BEGIN:DAYLIGHT
TZOFFSETFROM:+0100
TZOFFSETTO:+0200
TZNAME:CEST
DTSTART:20220327T010000
END:DAYLIGHT
BEGIN:STANDARD
TZOFFSETFROM:+0200
TZOFFSETTO:+0100
TZNAME:CET
DTSTART:20221030T010000
END:STANDARD
BEGIN:DAYLIGHT
TZOFFSETFROM:+0100
TZOFFSETTO:+0200
TZNAME:CEST
DTSTART:20230326T010000
END:DAYLIGHT
BEGIN:STANDARD
TZOFFSETFROM:+0200
TZOFFSETTO:+0100
TZNAME:CET
DTSTART:20231029T010000
END:STANDARD
BEGIN:DAYLIGHT
TZOFFSETFROM:+0100
TZOFFSETTO:+0200
TZNAME:CEST
DTSTART:20240331T010000
END:DAYLIGHT
BEGIN:STANDARD
TZOFFSETFROM:+0200
TZOFFSETTO:+0100
TZNAME:CET
DTSTART:20241027T010000
END:STANDARD
END:VTIMEZONE
BEGIN:VEVENT
DTSTART;TZID=Europe/Stockholm:20230203T094500
DTEND;TZID=Europe/Stockholm:20230205T100000
DTSTAMP:20260422T203613
CREATED:20230108T214358Z
LAST-MODIFIED:20230108T214358Z
UID:36036-1675417500-1675591200@stockholm.vineyard.se
SUMMARY:Jesus till Barnen
DESCRIPTION:”Vi vill ge Jesus till barnen och föra barnen till Jesus.” – VAR DAG \nBarn idag hör många ord\, men frågan är om de får höra de viktigaste? Guds viktigaste ord till oss är Jesus. Jesus kommer med kärlek\, hopp och tro för hela livet – VAR DAG! \nJesus vill vara synlig hemma\, i kyrkan och i samhället – både bland dem som hört och dem som inte hört – VAR DAG! \nKonferensen riktar sig till både dig som möter barn\, är förälder eller leder en församling! Ta del av undervisning\, inspiration\, verktyg och massor av uppmuntran att dela ord och tro – VAR DAG! \nVill du hänga med oss till konferensen? Vi är gärna så många som möjligt som tillsammans vill se och lyssna till vad Gud talar till oss och vart han leda oss i att betjäna\, nå och göra lärjungar bland barn. \nMötesplats:\nPingstkyrkan Jönköping\nVästra Torget\nLagermansgatan 1\n55318 Jönköping \nHar du frågor om Jesus till barnen?\nNätverkets projektledare\, Olof Brandt\, olof.brandt@bibelnidag.org\nNätverkets ordförande\, Sofia Ödman\, sofia.odman@elmsyd.se \nVill du följa med oss från Stockholm Vineyard?\nSkickar gärna email till stephanie.neve@vinyeyard.se
URL:https://stockholm.vineyard.se/kalender/jesus-till-barnen/
LOCATION:Pingstkyrkan Jönköping\, Lagermansgatan 1\, Jönköping\, 55318\, Sweden
CATEGORIES:Konferens
ATTACH;FMTTYPE=image/jpeg:https://stockholm.vineyard.se/wp-content/uploads/2023/01/2023-02-03_jesus-till-barnen.jpg
END:VEVENT
END:VCALENDAR