BEGIN:VCALENDAR
VERSION:2.0
PRODID:-//Stockholm Vineyard - ECPv6.15.20//NONSGML v1.0//EN
CALSCALE:GREGORIAN
METHOD:PUBLISH
X-ORIGINAL-URL:https://stockholm.vineyard.se
X-WR-CALDESC:Händelser för Stockholm Vineyard
REFRESH-INTERVAL;VALUE=DURATION:PT1H
X-Robots-Tag:noindex
X-PUBLISHED-TTL:PT1H
BEGIN:VTIMEZONE
TZID:Europe/Stockholm
BEGIN:DAYLIGHT
TZOFFSETFROM:+0100
TZOFFSETTO:+0200
TZNAME:CEST
DTSTART:20210328T010000
END:DAYLIGHT
BEGIN:STANDARD
TZOFFSETFROM:+0200
TZOFFSETTO:+0100
TZNAME:CET
DTSTART:20211031T010000
END:STANDARD
BEGIN:DAYLIGHT
TZOFFSETFROM:+0100
TZOFFSETTO:+0200
TZNAME:CEST
DTSTART:20220327T010000
END:DAYLIGHT
BEGIN:STANDARD
TZOFFSETFROM:+0200
TZOFFSETTO:+0100
TZNAME:CET
DTSTART:20221030T010000
END:STANDARD
BEGIN:DAYLIGHT
TZOFFSETFROM:+0100
TZOFFSETTO:+0200
TZNAME:CEST
DTSTART:20230326T010000
END:DAYLIGHT
BEGIN:STANDARD
TZOFFSETFROM:+0200
TZOFFSETTO:+0100
TZNAME:CET
DTSTART:20231029T010000
END:STANDARD
END:VTIMEZONE
BEGIN:VEVENT
DTSTART;VALUE=DATE:20221111
DTEND;VALUE=DATE:20221114
DTSTAMP:20260423T013503
CREATED:20220820T150124Z
LAST-MODIFIED:20221106T172146Z
UID:35541-1668124800-1668383999@stockholm.vineyard.se
SUMMARY:Stockholm Vineyard Höstmöte
DESCRIPTION:Varmt välkommen till Stockholm Vineyards höstmöte! Vi ser verkligen fram emot en helg tillsammans\, med gemenskap\, Guds närvaro och möjlighet att välsigna Sollentuna. \nUnder fredag kväll kommer vi att varva lovsång med vittnesbörd och stories om vad vi har fått uppleva av Gud i våra liv. En kväll av uppmuntran\, att fördjupa vår tro på Gud och bli påminda om vem han är. Lördagen innehåller undervisning\, samtal\, outreach\, bön och lovsång. Lördagen avslutas med en spelkväll och gemenskap! \nHelgen avslutas med gudstjänst kl 11 på söndag. \nIngen föranmälan eller avgift. Fika till inköpspris. Lunch och middag på lördag medtages eller kan köpas i Sollentuna Centrum. Välkommen! \nProgrammet:\nFredag 11 nov\nkl 19-21. Lovsång och berättelse om vad vi har sett Gud gör. \nLördag 12 nov\nkl 10-12. Lovsång\, undervisning och samtal ”Vad är Guds mission?”\nkl 12-13.20. Lunch medtages eller kan köps i Sollentuna Centrum\nkl 13.30-13.50. Förberedelse för outreach\nkl 14-15.30. Kaffeservering vid Malmparken. Utdelning av uppmuntrande kort\, biblar och inbjudan till församlingen. Bönepromenad. Skräpplockning.\nkl 15.45-16.15. Fika (inköpspris)\nkl 16.15-17.45 Lovsång\, samtal och bön ”Vart sänder Gud oss. Vart sänder Gud dig?”\nkl 18-21 Brädspelskväll och häng. Pizza om man vill beställa det. \nSöndag 13 nov\nkl 11-12.30 Gudstjänst
URL:https://stockholm.vineyard.se/kalender/hostkonferens/
CATEGORIES:Konferens,Outreach
END:VEVENT
END:VCALENDAR