BEGIN:VCALENDAR
VERSION:2.0
PRODID:-//Stockholm Vineyard - ECPv6.15.20//NONSGML v1.0//EN
CALSCALE:GREGORIAN
METHOD:PUBLISH
X-WR-CALNAME:Stockholm Vineyard
X-ORIGINAL-URL:https://stockholm.vineyard.se
X-WR-CALDESC:Händelser för Stockholm Vineyard
REFRESH-INTERVAL;VALUE=DURATION:PT1H
X-Robots-Tag:noindex
X-PUBLISHED-TTL:PT1H
BEGIN:VTIMEZONE
TZID:Europe/Stockholm
BEGIN:DAYLIGHT
TZOFFSETFROM:+0100
TZOFFSETTO:+0200
TZNAME:CEST
DTSTART:20210328T010000
END:DAYLIGHT
BEGIN:STANDARD
TZOFFSETFROM:+0200
TZOFFSETTO:+0100
TZNAME:CET
DTSTART:20211031T010000
END:STANDARD
BEGIN:DAYLIGHT
TZOFFSETFROM:+0100
TZOFFSETTO:+0200
TZNAME:CEST
DTSTART:20220327T010000
END:DAYLIGHT
BEGIN:STANDARD
TZOFFSETFROM:+0200
TZOFFSETTO:+0100
TZNAME:CET
DTSTART:20221030T010000
END:STANDARD
BEGIN:DAYLIGHT
TZOFFSETFROM:+0100
TZOFFSETTO:+0200
TZNAME:CEST
DTSTART:20230326T010000
END:DAYLIGHT
BEGIN:STANDARD
TZOFFSETFROM:+0200
TZOFFSETTO:+0100
TZNAME:CET
DTSTART:20231029T010000
END:STANDARD
END:VTIMEZONE
BEGIN:VEVENT
DTSTART;TZID=Europe/Stockholm:20220317T180000
DTEND;TZID=Europe/Stockholm:20220319T213000
DTSTAMP:20260423T143513
CREATED:20220110T164808Z
LAST-MODIFIED:20220110T185542Z
UID:35164-1647540000-1647725400@stockholm.vineyard.se
SUMMARY:Vineyard Nordic Leaders Summit
DESCRIPTION:Welcome to Vineyard Nordic Leaders Summit 2022 \nWe’re excited to invite you to the Vineyard Nordic Leaders Summit 2022\, which is the annual conference in Copenhagen for the Vineyard churches in the Nordic. We believe God wants us to dream with him and join with him in seeing lives\, cities and nations transformed. \nOur theme this year is Ready\, Willing and Able. Ready\, Willing & Able is a common English saying for being 100% available for any new challenge or opportunity – totally devoted to whatever new may come. ‘Ready’ refers to an active heart decision to respond\, ‘Willing’ refers to the posture of surrender and ‘Able’ meaning that we have been equipped with all that we need to be used by God in any situation that He leads us into.  \nFor registration\, programs\, and more\, please visit https://vnlc.vineyardnordic.org/
URL:https://stockholm.vineyard.se/kalender/vineyard-nordic-leaders-summit/
LOCATION:Frelsens Hær – Templet\, Frederiksberg Allé 9\, København\, 1621\, Danmark
CATEGORIES:Konferens
END:VEVENT
END:VCALENDAR